BEGIN:VCALENDAR
VERSION:2.0
PRODID:-//Mt. Pisgah Missionary Baptist Church - ECPv6.15.20//NONSGML v1.0//EN
CALSCALE:GREGORIAN
METHOD:PUBLISH
X-WR-CALNAME:Mt. Pisgah Missionary Baptist Church
X-ORIGINAL-URL:https://mpbcgb.org
X-WR-CALDESC:Events for Mt. Pisgah Missionary Baptist Church
REFRESH-INTERVAL;VALUE=DURATION:PT1H
X-Robots-Tag:noindex
X-PUBLISHED-TTL:PT1H
BEGIN:VTIMEZONE
TZID:UTC
BEGIN:STANDARD
TZOFFSETFROM:+0000
TZOFFSETTO:+0000
TZNAME:UTC
DTSTART:20220101T000000
END:STANDARD
END:VTIMEZONE
BEGIN:VEVENT
DTSTART;TZID=UTC:20230810T200000
DTEND;TZID=UTC:20230810T210000
DTSTAMP:20260418T020706
CREATED:20230810T200000Z
LAST-MODIFIED:20230910T204835Z
UID:91895-1691697600-1691701200@mpbcgb.org
SUMMARY:Sanctuary Worship Service
DESCRIPTION:Put your description here.
URL:https://mpbcgb.org/event/sanctuary-worship-service/
CATEGORIES:Featured,Worship
ATTACH;FMTTYPE=image/jpeg:https://mpbcgb.org/wp-content/uploads/2023/09/wine-and-bread.jpg
END:VEVENT
END:VCALENDAR